BEGIN:VCALENDAR
VERSION:2.0
METHOD:PUBLISH
BEGIN:VEVENT
DTSTART:20220608T100000
DTEND:20220608T100000
LOCATION:Wydział Nauk Politycznych i Dziennikarstwa UAM ul. Umultowska 89a  Poznań
TRANSP: OPAQUE
SEQUENCE:0
UID:
DTSTAMP:20260420T170112Z
SUMMARY:Go with the flow: projektowanie doświadczeń klientów w eCommerce
DESCRIPTION:Uwalniamy potencjał sprzedażowy sklepów internetowych!Doświadczenie zakupowe klientów decyduje o zyskach w eCommerce, niezależnie od kwot wydawanych na reklamę. Podczas konferencji Brains......
URL:https://app.evenea.pl/event/brainsattack/
PRIORITY:1
CLASS:PUBLIC
END:VEVENT
END:VCALENDAR
