BEGIN:VCALENDAR
VERSION:2.0
METHOD:PUBLISH
BEGIN:VEVENT
DTSTART:20241114T170000
DTEND:20241114T170000
LOCATION:Miejska Galeria Sztuki w Częstochowie Al. Najświętszej Maryi Panny 64  Częstochowa
TRANSP: OPAQUE
SEQUENCE:0
UID:
DTSTAMP:20260426T031751Z
SUMMARY:warsztaty brandingowe
DESCRIPTION:Marki otaczają nas każdego dnia, z każdej strony. Mówią do nas nieprzerwanie 24 godziny, 7 dni w tygodniu. Często nie zwracamy uwagi na to, kto i w jaki sposób chce nam coś powiedzieć. Na......
URL:https://app.evenea.pl/event/brandingowe/
PRIORITY:1
CLASS:PUBLIC
END:VEVENT
END:VCALENDAR
