BEGIN:VCALENDAR
VERSION:2.0
METHOD:PUBLISH
BEGIN:VEVENT
DTSTART:20260528T090000
DTEND:20260529T160000
LOCATION:Nowy Teatr im. Witkacego w Słupsku Witolda Lutosławskiego 1  Słupsk
TRANSP: OPAQUE
SEQUENCE:0
UID:
DTSTAMP:20260424T153518Z
SUMMARY:BRAND JUNGLE 2026 - II edycja. Wracamy do dżungli marek
DESCRIPTION:\n\n	\n\n\n\n	\n\n	\n\nBrand Jungle 2026 - II edycja.\n\nWracamy do dżungli marek 🌴\n\n\n\n	Brand Jungle to konferencja o strategii, tożsamości i zarządzaniu marką w praktyce.\n\n\n\n	Po......
URL:https://app.evenea.pl/event/brandjungle/
PRIORITY:1
CLASS:PUBLIC
END:VEVENT
END:VCALENDAR
