BEGIN:VCALENDAR
VERSION:2.0
METHOD:PUBLISH
BEGIN:VEVENT
DTSTART:20211103T140000
DTEND:20211103T150000
LOCATION:online   
TRANSP: OPAQUE
SEQUENCE:0
UID:
DTSTAMP:20260420T062158Z
SUMMARY:Indywidualne konsultacje prawne dla branży kreatywnej
DESCRIPTION:Działasz w branży kreatywnej lub NewTech, tworzysz filmy, gry komputerowe, oferujesz usługi marketingowe lub reklamowe, organizujesz eventy, jesteś youtuberem, influencerem, grafikiem,......
URL:https://app.evenea.pl/event/branzakreatywnalistopad/
PRIORITY:1
CLASS:PUBLIC
END:VEVENT
END:VCALENDAR
