BEGIN:VCALENDAR
VERSION:2.0
METHOD:PUBLISH
BEGIN:VEVENT
DTSTART:20241105T100000
DTEND:20241105T110000
LOCATION:online   
TRANSP: OPAQUE
SEQUENCE:0
UID:
DTSTAMP:20260419T210043Z
SUMMARY:Konsultacje prawne dla branży kreatywnej
DESCRIPTION:Działasz w branży kreatywnej lub NewTech, tworzysz filmy, gry komputerowe, oferujesz usługi marketingowe lub reklamowe, organizujesz eventy, jesteś youtuberem, influencerem, grafikiem,......
URL:https://app.evenea.pl/event/branzakreatywnalistopad2024/
PRIORITY:1
CLASS:PUBLIC
END:VEVENT
END:VCALENDAR
