BEGIN:VCALENDAR
VERSION:2.0
METHOD:PUBLISH
BEGIN:VEVENT
DTSTART:20191208T160000
DTEND:20191214T210000
LOCATION:CUD Grochów Osowska 84a  Warszawa
TRANSP: OPAQUE
SEQUENCE:0
UID:
DTSTAMP:20260424T183543Z
SUMMARY:Warsztat Transformational Breath®: Warszawa
DESCRIPTION:'As you breath you live'Zapraszamy na warsztat wprowadzający do metody Transformational Breath®, podczas którego doświadczysz korzyści świadomego połączonego oddechu oraz odkryjesz w jaki......
URL:https://app.evenea.pl/event/breathworkshopsdec2019/
PRIORITY:1
CLASS:PUBLIC
END:VEVENT
END:VCALENDAR
