BEGIN:VCALENDAR
VERSION:2.0
METHOD:PUBLISH
BEGIN:VEVENT
DTSTART:20201121T100000
DTEND:20201121T110000
LOCATION:Zoom   
TRANSP: OPAQUE
SEQUENCE:0
UID:
DTSTAMP:20260425T164047Z
SUMMARY:BSI online "Morskie mobile" - warsztaty familijne dla dzieci (6-10 lat)
DESCRIPTION:Kartonowe ryby z błyszczącymi łuskami ze sreberek po cukierkach, wodorosty z bibuły lub sznurków, a może muszelki w różnych kształtach i kolorach? Podczas warsztatów stworzymy mobile,......
URL:https://app.evenea.pl/event/bsimobile11/
PRIORITY:1
CLASS:PUBLIC
END:VEVENT
END:VCALENDAR
