BEGIN:VCALENDAR
VERSION:2.0
METHOD:PUBLISH
BEGIN:VEVENT
DTSTART:20201205T200000
DTEND:20201205T213000
LOCATION:Zoom   
TRANSP: OPAQUE
SEQUENCE:0
UID:
DTSTAMP:20260423T160608Z
SUMMARY:BSI online "Śledziotwarz" - warsztaty dla dorosłych
DESCRIPTION:Czy emocje i uczucia mogą wpłynąć na nasz wygląd? Czy i jak jak zmieniamy się, gdy myślimy o morzu, słonym wietrze i podwodnych stworzeniach? Na te niełatwe pytania, spróbujemy......
URL:https://app.evenea.pl/event/bsisledziotwarz/
PRIORITY:1
CLASS:PUBLIC
END:VEVENT
END:VCALENDAR
