BEGIN:VCALENDAR
VERSION:2.0
METHOD:PUBLISH
BEGIN:VEVENT
DTSTART:20230304T100000
DTEND:20230304T100000
LOCATION:Wojewódzka i Miejska  Biblioteka Publiczna Sikorskiego 107  Gorzów Wielkopolski
TRANSP: OPAQUE
SEQUENCE:0
UID:
DTSTAMP:20260421T025907Z
SUMMARY:Budowanie więzi z własnym dzieckiem
DESCRIPTION:"Mama rozmawia przez telefon jak wraca z pracy. Mam być cicho. Nie lubię cicho. Kocham mamę 6 lat.""Chcę mu pomóc, ale on mnie nie słucha, co robię źle? Znowu jest w domu krzyk.Mama""Tata......
URL:https://app.evenea.pl/event/budowaniewiezi/
PRIORITY:1
CLASS:PUBLIC
END:VEVENT
END:VCALENDAR
