BEGIN:VCALENDAR
VERSION:2.0
METHOD:PUBLISH
BEGIN:VEVENT
DTSTART:20200422T120000
DTEND:20200424T130000
LOCATION:inQUBE Uniwersytecki Inkubator Przedsiębiorczości Wielka 67  Wrocław
TRANSP: OPAQUE
SEQUENCE:0
UID:
DTSTAMP:20260420T124720Z
SUMMARY:Budowanie wizerunku marki i brandingu - konsultacje on-line
DESCRIPTION: Zakładasz firmę od zera, i nie wiesz jak zacząć? Co z promocją? Jakie podjąć działania marketingowe? A może chcesz skutecznie przeprowadzić rebranding. Karol Nowakowski z firmy......
URL:https://app.evenea.pl/event/budowaniewizerunkukonsultacje/
PRIORITY:1
CLASS:PUBLIC
END:VEVENT
END:VCALENDAR
