BEGIN:VCALENDAR
VERSION:2.0
METHOD:PUBLISH
BEGIN:VEVENT
DTSTART:20190905T183000
DTEND:20190905T183000
LOCATION:Kawiarnia De Ser Czajkowskiego 19  Krosno
TRANSP: OPAQUE
SEQUENCE:0
UID:
DTSTAMP:20260421T182302Z
SUMMARY:Aromatyczna jesień w Krośnie - budujemy odporność dzieci
DESCRIPTION:Opis na stronie www.mamatuli.pl...
URL:https://app.evenea.pl/event/budujemyodporonoscdzieci/
PRIORITY:1
CLASS:PUBLIC
END:VEVENT
END:VCALENDAR
