BEGIN:VCALENDAR
VERSION:2.0
METHOD:PUBLISH
BEGIN:VEVENT
DTSTART:20240704T170000
DTEND:20240704T183000
LOCATION:Centrum Edukacji i Wsparcia os. Górali 24  Kraków
TRANSP: OPAQUE
SEQUENCE:0
UID:
DTSTAMP:20260423T234943Z
SUMMARY:Spotkanie na temat Budżetu Obywatelskiego | Meeting about the Participatory Budget | Зустріч на тему Громадського бюджету
DESCRIPTION:Grupa wiekowa: 13+Język prowadzenia: polskiPL | Chcesz dowiedzieć się czym jest Budżet Obywatelski, kto i kiedy może w nim głosować oraz jaki ma wpływ na nasze miasto? Zapraszamy na......
URL:https://app.evenea.pl/event/budzetobywatelski0407/
PRIORITY:1
CLASS:PUBLIC
END:VEVENT
END:VCALENDAR
