BEGIN:VCALENDAR
VERSION:2.0
METHOD:PUBLISH
BEGIN:VEVENT
DTSTART:20210619T110000
DTEND:20210619T130000
LOCATION:Baza terenowa Fundacji Leśna Grupa (Las Kabacki)   Warszawa
TRANSP: OPAQUE
SEQUENCE:0
UID:
DTSTAMP:20260425T210626Z
SUMMARY:Odgłosy miasta - warsztat urbanistyczny dla dzieci (5-9 lat)
DESCRIPTION:Jak planuje się miasto? Sprawdźmy to! Podczas zajęć dzieci stworzą makietę ekomiasta. Zaprojektują wykonają proste zadania związane z planowaniem i konstruowaniem wybranych obszarów......
URL:https://app.evenea.pl/event/bugi1906/
PRIORITY:1
CLASS:PUBLIC
END:VEVENT
END:VCALENDAR
