BEGIN:VCALENDAR
VERSION:2.0
METHOD:PUBLISH
BEGIN:VEVENT
DTSTART:20210121T180000
DTEND:20210121T200000
LOCATION:online   
TRANSP: OPAQUE
SEQUENCE:0
UID:
DTSTAMP:20260419T222026Z
SUMMARY:Jak przygotować się do pozyskania klientów zagranicznych B2B w branży IT | Warsztat online | Joanna Mamczur
DESCRIPTION:Zapraszamy na warsztat online 21 stycznia o godz. 18:Jak przygotować się do pozyskania klientów zagranicznych B2B w branży IT To praktyczny warsztat dla managerów, team leaderów w IT,......
URL:https://app.evenea.pl/event/businesslawit/
PRIORITY:1
CLASS:PUBLIC
END:VEVENT
END:VCALENDAR
