BEGIN:VCALENDAR
VERSION:2.0
METHOD:PUBLISH
BEGIN:VEVENT
DTSTART:20221201T100000
DTEND:20221201T100000
LOCATION:Rawa.ink - Miejski Inkubator Przedsiębiorczości ul. Teatralna 17A  Katowice
TRANSP: OPAQUE
SEQUENCE:0
UID:
DTSTAMP:20260425T134340Z
SUMMARY:GOSPODARCZE PODSUMOWANIE ROKU - Business in Silesia #8
DESCRIPTION:Zapraszamy na GOSPODARCZE PODSUMOWANIE ROKU.Na spotkaniu wypowiedzą się eksperci z ZPP Centrala, Warsaw Enterprise Institute, organizacji międzynarodowych. W trakcie konferencji przeprowadzimy......
URL:https://app.evenea.pl/event/bussinesinsilesia-08/
PRIORITY:1
CLASS:PUBLIC
END:VEVENT
END:VCALENDAR
