BEGIN:VCALENDAR
VERSION:2.0
METHOD:PUBLISH
BEGIN:VEVENT
DTSTART:20250813T170000
DTEND:20250813T190000
LOCATION:Miejsce Aktywności Lokalnej Szerokie Możliwości ul. Nałęczowska 175  Lublin
TRANSP: OPAQUE
SEQUENCE:0
UID:
DTSTAMP:20260420T114626Z
SUMMARY:Cudotwory z odpadów ,,Butelkowe świetliki - lampiony z plastiku''
DESCRIPTION:Celem warsztatu jest edukacja, szczególnie najmłodszych, dotycząca recyklingu, w tym przypadku ponownego wykorzystania plastiku i wykorzystania go w kreatywny sposób. Uczestnicy tworzą lampki......
URL:https://app.evenea.pl/event/butelkoweswietliki/
PRIORITY:1
CLASS:PUBLIC
END:VEVENT
END:VCALENDAR
