BEGIN:VCALENDAR
VERSION:2.0
METHOD:PUBLISH
BEGIN:VEVENT
DTSTART:20260512T173000
DTEND:20260512T210000
LOCATION:Płocki Park Przemysłowo-Technologiczny Budynek Centrum Usług Korporacyjnych Łukasiewicza 39  Płock
TRANSP: OPAQUE
SEQUENCE:0
UID:
DTSTAMP:20260424T171931Z
SUMMARY:BUSINESS WHATEVER #12
DESCRIPTION:🎯 BUSINESS WHATEVER - spotkania networkingowe w Płocku!📍 PPP-T S.A., ul. Łukasiewicza 39🗓 Start: 12 maja (wtorek), godz. 17:30Business Whatever to cykliczne, bezpłatne spotkania,......
URL:https://app.evenea.pl/event/bw12/
PRIORITY:1
CLASS:PUBLIC
END:VEVENT
END:VCALENDAR
