BEGIN:VCALENDAR
VERSION:2.0
METHOD:PUBLISH
BEGIN:VEVENT
DTSTART:20251220T120000
DTEND:20251220T120000
LOCATION:Róża Wiatrów na Rybim Rynku Rybi Rynek  Bydgoszcz
TRANSP: OPAQUE
SEQUENCE:0
UID:
DTSTAMP:20260422T110758Z
SUMMARY:Bydgoszcz w pigułce - 20 grudnia
DESCRIPTION:Serdecznie zapraszam, na spacer "Bydgoszcz w Pigułce"!A na nim - najważniejsze wątki z historii Bydgoszczy, czyli wszystko to o co chciałaś/eś zapytać, ale się wstydziłeś/aś! Dobry......
URL:https://app.evenea.pl/event/bydgoszcz-w-pigulce-listopad/
PRIORITY:1
CLASS:PUBLIC
END:VEVENT
END:VCALENDAR
