BEGIN:VCALENDAR
VERSION:2.0
METHOD:PUBLISH
BEGIN:VEVENT
DTSTART:20240315T171500
DTEND:20240315T181500
LOCATION:Miejsce Otwarte. Centrum Integracji Międzykulturowej. Kraków os. Górali 24  Kraków
TRANSP: OPAQUE
SEQUENCE:0
UID:
DTSTAMP:20260423T045734Z
SUMMARY:Capoeira dla dzieci (10-15 lat) | Capoeira for children (10-15 years old) | Капоейра для дітей (10-15 років)
DESCRIPTION:Grupa wiekowa: 10-15 lat Język prowadzenia: english, polskiPL: Nowości w Open Place! Zapraszamy dzieci w wieku od 5 do 15 lat na zajęcia capoeiry z brazylijskim instruktorem już w najbliższy......
URL:https://app.evenea.pl/event/capoeira101503/
PRIORITY:1
CLASS:PUBLIC
END:VEVENT
END:VCALENDAR
