BEGIN:VCALENDAR
VERSION:2.0
METHOD:PUBLISH
BEGIN:VEVENT
DTSTART:20240322T161500
DTEND:20240326T171500
LOCATION:Miejsce Otwarte. Centrum Integracji Międzykulturowej. Kraków os. Górali 24  Kraków
TRANSP: OPAQUE
SEQUENCE:0
UID:
DTSTAMP:20260423T045616Z
SUMMARY:Capoeira dla dzieci (5-10 lat) | Capoeira for children (5-10 years old) | Капоейра для дітей (5-10 років)
DESCRIPTION:Grupa wiekowa: 5-10 lat Język prowadzenia: english, polskiPL: Nowości w Open Place! Zapraszamy dzieci w wieku od 5 do 15 lat na zajęcia capoeiry z brazylijskim instruktorem już w najbliższy......
URL:https://app.evenea.pl/event/capoeira52203/
PRIORITY:1
CLASS:PUBLIC
END:VEVENT
END:VCALENDAR
