BEGIN:VCALENDAR
VERSION:2.0
METHOD:PUBLISH
BEGIN:VEVENT
DTSTART:20240316T123000
DTEND:20240316T133000
LOCATION:Miejsce Otwarte. Centrum Integracji Międzykulturowej. Kraków os. Górali 24  Kraków
TRANSP: OPAQUE
SEQUENCE:0
UID:
DTSTAMP:20260423T050336Z
SUMMARY:Trening z Capoeiry dla kobiet i mam z córkami
DESCRIPTION:Grupa wiekowa: kobiety i mamy z córkami 9+ latJęzyk prowadzenia: ukraiński, polskiPL: Zapraszamy na niezwykłe zajęcia z capoeiry dla kobiet i mam z córkami. Te zajęcia będą nie tylko......
URL:https://app.evenea.pl/event/capoeiradlakobiet1603/
PRIORITY:1
CLASS:PUBLIC
END:VEVENT
END:VCALENDAR
