BEGIN:VCALENDAR
VERSION:2.0
METHOD:PUBLISH
BEGIN:VEVENT
DTSTART:20251003T170000
DTEND:20251003T170000
LOCATION:Zabrzański Gościniec Aleja Bohaterów Monte Cassino 9  Zabrze
TRANSP: OPAQUE
SEQUENCE:0
UID:
DTSTAMP:20260420T181235Z
SUMMARY:Różowy październik - siła profilaktyki.
DESCRIPTION:🌸 Różowy październik - siła profilaktyki 🌸📅 3 października 2025 r. (piątek), godz. 17:00-19:00 📍 Restauracja Zabrzański GościniecZapraszamy na wyjątkowe spotkanie poświęcone......
URL:https://app.evenea.pl/event/celujemywraka/
PRIORITY:1
CLASS:PUBLIC
END:VEVENT
END:VCALENDAR
