BEGIN:VCALENDAR
VERSION:2.0
METHOD:PUBLISH
BEGIN:VEVENT
DTSTART:20240130T100000
DTEND:20240130T100000
LOCATION:APARTON USTKA Szymborskiej 1  Przewłoka
TRANSP: OPAQUE
SEQUENCE:0
UID:
DTSTAMP:20260421T093042Z
SUMMARY:Chefs Only - edycja specjalna USTKA 2024
DESCRIPTION:30 stycznia w hotelu Aparton w Ustce odbędzie się kolejna edycja Chefs Only. Rośnie liczba gości restauracji, cukierni oraz hotelowych restauracji i domów weselnych, zainteresowana daniami bez......
URL:https://app.evenea.pl/event/chefsonlyustka/
PRIORITY:1
CLASS:PUBLIC
END:VEVENT
END:VCALENDAR
