BEGIN:VCALENDAR
VERSION:2.0
METHOD:PUBLISH
BEGIN:VEVENT
DTSTART:20260426T100000
DTEND:20260426T180000
LOCATION:Dąbrowa Górnicza, dworzec PKP (rozpoczęcie przejazdu)   
TRANSP: OPAQUE
SEQUENCE:0
UID:
DTSTAMP:20260421T180048Z
SUMMARY:Chrumkanie H9 po Jurze Krakowsko-Częstochowskiej
DESCRIPTION:Fundacja Retro Zajezdnia zaprasza 26.04.2026 na przejazd Autosanem H9-21.41 "Chrumkanie H9 po Jurze Krakowsko-Częstochowskiej" w trakcie którego jednym z naszych Autosanów H9 wybierzemy się w......
URL:https://app.evenea.pl/event/chrumkanieh9/
PRIORITY:1
CLASS:PUBLIC
END:VEVENT
END:VCALENDAR
