BEGIN:VCALENDAR
VERSION:2.0
METHOD:PUBLISH
BEGIN:VEVENT
DTSTART:20190630T090000
DTEND:20190630T110000
LOCATION:Regionalne Centrum Kultur Pogranicza w Krośnie ul. Kolejowa 1  Krosno
TRANSP: OPAQUE
SEQUENCE:0
UID:
DTSTAMP:20260422T183827Z
SUMMARY:Krośnieński Festiwal Bliskości 30 czerwca 2019 - warsztat chustowy dla początkujących
DESCRIPTION:Zapraszam rodziców spodziewających się dziecka oraz rodziców małych dzieci na naukę wiązania chusty.Nie musicie posiadać chusty, dysponuję chustami oraz lalami treningowymi. W trakcie......
URL:https://app.evenea.pl/event/chustywarsztat/
PRIORITY:1
CLASS:PUBLIC
END:VEVENT
END:VCALENDAR
