BEGIN:VCALENDAR
VERSION:2.0
METHOD:PUBLISH
BEGIN:VEVENT
DTSTART:20220801T100000
DTEND:20220814T200000
LOCATION:GAK PLAMA Ul. Pilotów 11  Gdańsk
TRANSP: OPAQUE
SEQUENCE:0
UID:
DTSTAMP:20260426T011634Z
SUMMARY:CIAŁOMOC | LATO W TEATRZE
DESCRIPTION:Ciałopozytywny camp jest dla Ciebie, jeśli....☀️ masz ochotę stworzyć z nami spektakl od wspólnego napisania dramatu aż po jego wystawienie, ☀️ chcesz wzmocnić swoją relację ze......
URL:https://app.evenea.pl/event/cialomoc/
PRIORITY:1
CLASS:PUBLIC
END:VEVENT
END:VCALENDAR
