BEGIN:VCALENDAR
VERSION:2.0
METHOD:PUBLISH
BEGIN:VEVENT
DTSTART:20260420T180000
DTEND:20260420T213000
LOCATION:Sztuka na Miejscu Łaciarska 4  Wrocław
TRANSP: OPAQUE
SEQUENCE:0
UID:
DTSTAMP:20260420T202719Z
SUMMARY:Cloud and Data Meetup Wrocław
DESCRIPTION:⏱ Data: 20 kwietnia 2026 roku, godz. 18:00🔵Miejsce: Sztuka na Miejscu, ul. Łaciarska 4, WrocławZapraszamy na wydarzenie Cloud and Data Meetup Wrocław, które odbędzie się już 20 kwietnia......
URL:https://app.evenea.pl/event/cloudanddatawro/
PRIORITY:1
CLASS:PUBLIC
END:VEVENT
END:VCALENDAR
