BEGIN:VCALENDAR
VERSION:2.0
METHOD:PUBLISH
BEGIN:VEVENT
DTSTART:20250123T180000
DTEND:20250123T180000
LOCATION:Hard Rock Cafe Wrocław Rynek 25  Wrocław
TRANSP: OPAQUE
SEQUENCE:0
UID:
DTSTAMP:20260423T041847Z
SUMMARY:Cloud and Data Meetup Wrocław
DESCRIPTION:⏱ Data: 23 stycznia 2025 roku, godz. 18:00🔵Miejsce: Hard Rock Cafe Wrocław, ul. Rynek 25, WrocławZapraszamy na wydarzenie Cloud and Data Meetup Wrocław, które odbędzie się już 23......
URL:https://app.evenea.pl/event/cloudanddatawroclaw/
PRIORITY:1
CLASS:PUBLIC
END:VEVENT
END:VCALENDAR
