BEGIN:VCALENDAR
VERSION:2.0
METHOD:PUBLISH
BEGIN:VEVENT
DTSTART:20151119T150000
DTEND:20151119T180000
LOCATION:Technopark Pomerania ul. Cyfrowa 6  Szczecin
TRANSP: OPAQUE
SEQUENCE:0
UID:
DTSTAMP:20260421T180513Z
SUMMARY:Od czego zależy efektywność coachingu biznesowego? Fakty i mity dotyczące usługi coachingowej. - ŚTP
DESCRIPTION:Zapraszamy na bezpłatne spotkanie zorganizowane przez Izbę Coachingu Oddział Zachodniopomorski w ramach Światowego Tygodnia Przedsiębiorczości. czwartek, 19 listopada 2015 r., godz. 15.00 -......
URL:https://app.evenea.pl/event/coachingbiznesu/
PRIORITY:1
CLASS:PUBLIC
END:VEVENT
END:VCALENDAR
