BEGIN:VCALENDAR
VERSION:2.0
METHOD:PUBLISH
BEGIN:VEVENT
DTSTART:20230417T160000
DTEND:20230417T180000
LOCATION:online   
TRANSP: OPAQUE
SEQUENCE:0
UID:
DTSTAMP:20260419T223312Z
SUMMARY:Coaching rozwoju osobistego - bezpłatne konsultacje indywidualne on-line
DESCRIPTION:Zapraszamy na darmowe konsultacje które kierujemy do osób, które chcą postawić kolejny krok na drodze rozwojowej i poszukują możliwości wsparcia. Spotkanie to pomoże określić Twoje......
URL:https://app.evenea.pl/event/coachinginqubekwiecien23/
PRIORITY:1
CLASS:PUBLIC
END:VEVENT
END:VCALENDAR
