BEGIN:VCALENDAR
VERSION:2.0
METHOD:PUBLISH
BEGIN:VEVENT
DTSTART:20210219T160000
DTEND:20210226T180000
LOCATION:inQUBE Uniwersytecki Inkubator Przedsiębiorczośći Wielka 67  Wrocaw
TRANSP: OPAQUE
SEQUENCE:0
UID:
DTSTAMP:20260419T221851Z
SUMMARY:Coaching rozwoju osobistego - bezpłatne konsultacje indywidualne on-line
DESCRIPTION:Coaching to metoda, która pomoże Ci rozwinąć się osobiście, znaleźć motywacje i sposób na osiągnięcie celu. Podczas konsultacji dowiesz się, jak wykorzystać w pełni swój potencjał.......
URL:https://app.evenea.pl/event/coachinginqubeluty/
PRIORITY:1
CLASS:PUBLIC
END:VEVENT
END:VCALENDAR
