BEGIN:VCALENDAR
VERSION:2.0
METHOD:PUBLISH
BEGIN:VEVENT
DTSTART:20260508T170000
DTEND:20260508T170000
LOCATION:Uniwersytet Gdański, Wydział Matematyki, Fizyki i Informatyki Wita Stwosza 57  80-308 Gdańsk
TRANSP: OPAQUE
SEQUENCE:0
UID:
DTSTAMP:20260422T173505Z
SUMMARY:Kobiety w Cybersec - inauguracja CODE:ME Shell
DESCRIPTION:\n\n	\n\n		\n\n			🚀 Kobiety w Cybersec\n\n			Startujemy z projektem CODE:ME Shell!\n\n			\n\nChcesz lepiej zrozumieć świat cyberbezpieczeństwa i świadomie poruszać się w cyfrowej......
URL:https://app.evenea.pl/event/codeme-shell/
PRIORITY:1
CLASS:PUBLIC
END:VEVENT
END:VCALENDAR
