BEGIN:VCALENDAR
VERSION:2.0
METHOD:PUBLISH
BEGIN:VEVENT
DTSTART:20260415T090000
DTEND:20260415T090000
LOCATION:Wrocławski Park Technologiczny, budynek BETA WPT (ul. Klecińska 125). Sala Konferencyjna Beta (parter)  Wrocław
TRANSP: OPAQUE
SEQUENCE:0
UID:
DTSTAMP:20260420T105335Z
SUMMARY:Odkryj, jak automatyzacja, integracja systemów i AI mogą ułatwić Twoją codzienną
DESCRIPTION:Coffee Break Networking\n\n	Zapraszamy na kolejne spotkanie z cyklu Coffee Break Networking, które odbędzie się 15 kwietnia 2026 r. o godz. 9:00! \n\nBrakuje Ci czasu na realizację ważnych......
URL:https://app.evenea.pl/event/coffeebreaknetworking/
PRIORITY:1
CLASS:PUBLIC
END:VEVENT
END:VCALENDAR
