BEGIN:VCALENDAR
VERSION:2.0
METHOD:PUBLISH
BEGIN:VEVENT
DTSTART:20200305T180000
DTEND:20200305T180000
LOCATION:Dom Przedsiębiorcy w Tczewie - Inkubator przedsiębiorczości Obrońców Westerplatte 3  Tczew
TRANSP: OPAQUE
SEQUENCE:0
UID:
DTSTAMP:20260424T081257Z
SUMMARY:Zarządzanie finansami osobistymi w 3 krokach
DESCRIPTION:Znasz bajkę o złotej rybce i 3 życzeniach? A co gdyby te 3 życzenia dotyczyły Twojego budżetu? Organizujemy wydarzenie, w którym właśnie poznasz te 3 życzenia = kroki, dzięki którym......
URL:https://app.evenea.pl/event/columbus-tczew-03-2020/
PRIORITY:1
CLASS:PUBLIC
END:VEVENT
END:VCALENDAR
