BEGIN:VCALENDAR
VERSION:2.0
METHOD:PUBLISH
BEGIN:VEVENT
DTSTART:20191105T110000
DTEND:20191105T150000
LOCATION:Krakowski Park Technologiczny Podole 60  Kraków
TRANSP: OPAQUE
SEQUENCE:0
UID:
DTSTAMP:20260423T140629Z
SUMMARY:Co napędza rozwój Przemysłu 4.0 w Małopolsce?
DESCRIPTION:\n\n	Spojrzyj kompleksowo na małopolski Przemysł 4.0. Poznaj z bliska najważniejszych aktorów, stymulujących rozwój czwartej rewolucji przemysłowej w Małopolsce: start-upy, małe i średnie......
URL:https://app.evenea.pl/event/conapedzaprzemysl40/
PRIORITY:1
CLASS:PUBLIC
END:VEVENT
END:VCALENDAR
