BEGIN:VCALENDAR
VERSION:2.0
METHOD:PUBLISH
BEGIN:VEVENT
DTSTART:20250711T090000
DTEND:20250713T170000
LOCATION:Pałac Kultury i Nauki Warszawa Plac Defilad 1  Warszawa
TRANSP: OPAQUE
SEQUENCE:0
UID:
DTSTAMP:20260425T174737Z
SUMMARY:NASZ DZIWNY NOWY ŚWIAT. Spotkanie Concilium Civitas 11-13.07.2025
DESCRIPTION:W dniach 11-13 lipca 2025 zapraszamy do Pałacu Kultury i Nauki w Warszawie na kolejne spotkanie Concilium Civitas. Przez trzy dni będziemy rozmawiać o najważniejszych sprawach publicznych i......
URL:https://app.evenea.pl/event/concilium2025/
PRIORITY:1
CLASS:PUBLIC
END:VEVENT
END:VCALENDAR
