BEGIN:VCALENDAR
VERSION:2.0
METHOD:PUBLISH
BEGIN:VEVENT
DTSTART:20250113T180000
DTEND:20250113T180000
LOCATION:H.4.0.S Marszałkowska 64  Warszawa
TRANSP: OPAQUE
SEQUENCE:0
UID:
DTSTAMP:20260419T231032Z
SUMMARY:CRASH Mondays № 35: Trendy w marketingu [Warszawa]
DESCRIPTION:Zapraszamy na 35 edycję CRASH Mondays WARSZAWA! Tematem przewodnim będą Trendy w marketingu (i nie tylko) 🙋 Uwaga, zderzymy teorię z praktyką! 😉📋 Zapisy (ograniczona liczba miejsc):......
URL:https://app.evenea.pl/event/crashwwa35/
PRIORITY:1
CLASS:PUBLIC
END:VEVENT
END:VCALENDAR
