BEGIN:VCALENDAR
VERSION:2.0
METHOD:PUBLISH
BEGIN:VEVENT
DTSTART:20260119T180000
DTEND:20260119T180000
LOCATION:H.4.0.S Marszałkowska 64  Warszawa
TRANSP: OPAQUE
SEQUENCE:0
UID:
DTSTAMP:20260425T190958Z
SUMMARY:CRASH Mondays № 45: Trendy w marketingu [WARSZAWA]
DESCRIPTION:Zapraszamy na 45 edycję CRASH Mondays WARSZAWA! Tematem przewodnim będzie Trendy w marketingu 🚀 Uwaga, zderzymy teorię z praktyką! 😉📋 Zapisy (ograniczona liczba miejsc):......
URL:https://app.evenea.pl/event/crashwwa45/
PRIORITY:1
CLASS:PUBLIC
END:VEVENT
END:VCALENDAR
