BEGIN:VCALENDAR
VERSION:2.0
METHOD:PUBLISH
BEGIN:VEVENT
DTSTART:20200228T190000
DTEND:20200228T190000
LOCATION:Radio Lublin Obrońców Pokoju 2  Lublin
TRANSP: OPAQUE
SEQUENCE:0
UID:
DTSTAMP:20260420T083124Z
SUMMARY:Sebastian Riedel & Cree - koncert w Radiu Lublin
DESCRIPTION:Zespół został założony w 1993 roku w Tychach przez Sebastiana Riedla i Sylwestra Kramka. Nazwę Cree pomógł wymyślić ojciec Sebastiana, Rysiek Riedel legendarny frontman zespołu Dżem,......
URL:https://app.evenea.pl/event/cree/
PRIORITY:1
CLASS:PUBLIC
END:VEVENT
END:VCALENDAR
