BEGIN:VCALENDAR
VERSION:2.0
METHOD:PUBLISH
BEGIN:VEVENT
DTSTART:20250515T120000
DTEND:20250515T150000
LOCATION:Galeria Sztuki Rzeczna Rzeczna 1  Rybnik
TRANSP: OPAQUE
SEQUENCE:0
UID:
DTSTAMP:20260419T154612Z
SUMMARY:Konferencja: Współpraca mieszkańców i samorządów - to działa lokalnie! O znaczeniu partnerstwa w społeczności
DESCRIPTION:Konferencja "Współpraca mieszkańców i samorządów - to działa lokalnie! O znaczeniu partnerstwa w społeczności" to wydarzenie otwarte, które ma gromadzić ludzi różnych środowisk,......
URL:https://app.evenea.pl/event/cris2025/
PRIORITY:1
CLASS:PUBLIC
END:VEVENT
END:VCALENDAR
