BEGIN:VCALENDAR
VERSION:2.0
METHOD:PUBLISH
BEGIN:VEVENT
DTSTART:20200919T100000
DTEND:20200919T110000
LOCATION:CUD Grochów - Studio Rozwoju i Edukacji ul. Osowska 84a  Warszawa
TRANSP: OPAQUE
SEQUENCE:0
UID:
DTSTAMP:20260425T005238Z
SUMMARY:CUDowne DNI OTWARTE -  Gimnastyka Słowiańska - ćwiczenia Słowiańskich Wiedźm - Julia Marcinowska - WEŹ MATĘ I CHUSTĘ!
DESCRIPTION:10:00 - 11:00 Gimnastyka Słowiańska - ćwiczenia Słowiańskich Wiedźm - Julia Marcinowska - WEŹ MATĘ I CHUSTĘ!"Wiedźma" to ta która wie… Twoje ciało wie. Ty wiesz… nawet jak nie......
URL:https://app.evenea.pl/event/cud-grochow-do-18-20-wrzesien-gimnastyka-slowianska/
PRIORITY:1
CLASS:PUBLIC
END:VEVENT
END:VCALENDAR
