BEGIN:VCALENDAR
VERSION:2.0
METHOD:PUBLISH
BEGIN:VEVENT
DTSTART:20200918T170000
DTEND:20200918T180000
LOCATION:CUD Grochów - Studio Rozwoju i Edukacji ul. Osowska 84a  Warszawa
TRANSP: OPAQUE
SEQUENCE:0
UID:
DTSTAMP:20260425T005144Z
SUMMARY:CUDowne DNI OTWARTE -  Joga Vinyasa - warsztat, Monika Malinowska
DESCRIPTION:17:00-18:00 Joga Vinyasa - warsztat, Monika Malinowska - WEŹ MATĘVinyasa Joga,to dynamiczna sekwencja Asan - ćwiczeń, zsynchronizowana z oddechem i połączonych ze sobą płynnymi......
URL:https://app.evenea.pl/event/cud-grochow-do-18-20-wrzesien-joga-vinyasa/
PRIORITY:1
CLASS:PUBLIC
END:VEVENT
END:VCALENDAR
