BEGIN:VCALENDAR
VERSION:2.0
METHOD:PUBLISH
BEGIN:VEVENT
DTSTART:20200918T180000
DTEND:20200918T190000
LOCATION:CUD Grochów - Studio Rozwoju i Edukacji ul. Osowska 84a  Warszawa
TRANSP: OPAQUE
SEQUENCE:0
UID:
DTSTAMP:20260425T005151Z
SUMMARY:CUDowne DNI OTWARTE -  Oddech - siła życia - Paulina Szewczuk
DESCRIPTION:18:00 - 19:00 Oddech - siła życia - Paulina SzewczukOddech jest nam dany od pierwszej sekundy życia. To dzięki niemu rośniemy, doświadczamy, działamy, spełniamy swoje marzenia , wygrywamy,......
URL:https://app.evenea.pl/event/cud-grochow-do-18-20-wrzesien-oddech-sila-zycia/
PRIORITY:1
CLASS:PUBLIC
END:VEVENT
END:VCALENDAR
