BEGIN:VCALENDAR
VERSION:2.0
METHOD:PUBLISH
BEGIN:VEVENT
DTSTART:20200918T150000
DTEND:20200920T220000
LOCATION:CUD Grochów - Studio Rozwoju i Edukacji ul. Osowska 84a  Warszawa
TRANSP: OPAQUE
SEQUENCE:0
UID:
DTSTAMP:20260425T005145Z
SUMMARY:CUDowne DNI OTWARTE 18-20 WRZEŚNIA - konsultacje indywidualne z naszymi Specjalistami
DESCRIPTION:W trakcie Dni Otwartych możesz skorzystać z KONSULTACJI INDYWIDUALNYCH z naszymi Specjalistami za symboliczną opłatą 35zł za spotkanie. Nasi Specjaliści to:Saira Rei - procesy kwantowe - 2......
URL:https://app.evenea.pl/event/cudgrochow-do-18-20-wrzesien-konsultacje/
PRIORITY:1
CLASS:PUBLIC
END:VEVENT
END:VCALENDAR
