BEGIN:VCALENDAR
VERSION:2.0
METHOD:PUBLISH
BEGIN:VEVENT
DTSTART:20220607T103000
DTEND:20220607T120000
LOCATION:online   
TRANSP: OPAQUE
SEQUENCE:0
UID:
DTSTAMP:20260426T011634Z
SUMMARY:Model-Based Design for Cyber Security in Embedded System Designs | Politechnika Rzeszowska
DESCRIPTION:Model-Based Design for Cyber Security in Embedded System Designs \n\n\n\n	Data spotkania online: 7 czerwca (wtorek) godz. 10:30\n\n	Czas trwania: 1h 30 min\n\n\n\n	Wydarzenie skierowane jest do......
URL:https://app.evenea.pl/event/cyber-prz/
PRIORITY:1
CLASS:PUBLIC
END:VEVENT
END:VCALENDAR
