BEGIN:VCALENDAR
VERSION:2.0
METHOD:PUBLISH
BEGIN:VEVENT
DTSTART:20210616T100000
DTEND:20210616T130000
LOCATION:online   
TRANSP: OPAQUE
SEQUENCE:0
UID:
DTSTAMP:20260419T134345Z
SUMMARY:cyberbezpieczeństwo w przemyśle morskim | spotkanie z Robertem Koślą
DESCRIPTION:kiedy: środa, 16 czerwca 2021, godz. 10:00-10:45 gdzie: online, platforma ZOOM wstęp: bezpłatny, wymagana rejestracjaPrzemysł morski staje się coraz bardziej zależny od zaawansowanych......
URL:https://app.evenea.pl/event/cyberbezpieczenstwo-w-przemysle-morskim/
PRIORITY:1
CLASS:PUBLIC
END:VEVENT
END:VCALENDAR
