BEGIN:VCALENDAR
VERSION:2.0
METHOD:PUBLISH
BEGIN:VEVENT
DTSTART:20250926T190000
DTEND:20250926T204500
LOCATION:Dzikie Wino Na Kleparzu Rynek KIeparski 20  Kraków
TRANSP: OPAQUE
SEQUENCE:0
UID:
DTSTAMP:20260420T022151Z
SUMMARY:Cydr zaczyna się w sadzie! Cydrownie PFEIFFER'S i ZYWER w DZIKIM WINIE na Kleparzu! Degustacja komentowana!!
DESCRIPTION:• 11 cydrów!• Dwie rzemieślnicze cydrownie i troje cydrowników!• Wystrzałowa atmosfera Dzikiego Wina na Kleparzu!• Cydrowy pairing!Jesień w rozkwicie, czyli w polskich sadach......
URL:https://app.evenea.pl/event/cydrowisko-dzikiewino-1/
PRIORITY:1
CLASS:PUBLIC
END:VEVENT
END:VCALENDAR
