BEGIN:VCALENDAR
VERSION:2.0
METHOD:PUBLISH
BEGIN:VEVENT
DTSTART:20240229T103000
DTEND:20240229T171500
LOCATION:Salon Cyfrowe.pl GDAŃSK Kartuska 149, lok. 11 wejście od ul. Bądkowskiego  Gdańsk
TRANSP: OPAQUE
SEQUENCE:0
UID:
DTSTAMP:20260419T160515Z
SUMMARY:Fokus na biznes - konsultacje B2B - GDAŃSK
DESCRIPTION:\n\n	\n\n		Twój sukces zaczyna się z Cyfrowe.pl!Chcesz zbudować swoje studio, wymienić sprzęt, podnieść jakość swoich usług? Planujesz wystąpić o dotację na założenie firmy......
URL:https://app.evenea.pl/event/cyfrowe-fokus-gdansk/
PRIORITY:1
CLASS:PUBLIC
END:VEVENT
END:VCALENDAR
