BEGIN:VCALENDAR
VERSION:2.0
METHOD:PUBLISH
BEGIN:VEVENT
DTSTART:20260513T090000
DTEND:20260513T090000
LOCATION:   Warszawa
TRANSP: OPAQUE
SEQUENCE:0
UID:
DTSTAMP:20260424T193536Z
SUMMARY:Skanuj, projektuj i drukuj w gabinecie stomatologicznym z wykorzystaniem środowiska SHINING 3D
DESCRIPTION:Skanuj, projektuj i drukuj w gabinecie stomatologicznym z wykorzystaniem środowiska SHINING 3D\n\n\n\nTerminy:\n\n	13.05.2026 Warszawa\n\n	Cena: 1500 zł / os.\n\nPROGRAM g. 9:00-16:30 \n\n......
URL:https://app.evenea.pl/event/cyfroweworkflow2026/
PRIORITY:1
CLASS:PUBLIC
END:VEVENT
END:VCALENDAR
