BEGIN:VCALENDAR
VERSION:2.0
METHOD:PUBLISH
BEGIN:VEVENT
DTSTART:20240222T164500
DTEND:20240321T181500
LOCATION:Centrum Edukacji i Wsparcia os. Górali 24  Kraków
TRANSP: OPAQUE
SEQUENCE:0
UID:
DTSTAMP:20260423T050424Z
SUMMARY:Cykl warsztatów o wielokulturowości - Weźże to ogarnij
DESCRIPTION:Cykl warsztatów - "Weźże to ogarnij — warsztaty z wielokulturowości"Cykl warsztatów - zapisując się na warsztaty zobowiązujesz się aby wziąć udział w całym cyklu. Dostępnych jest......
URL:https://app.evenea.pl/event/cykl-wielokulturowosc/
PRIORITY:1
CLASS:PUBLIC
END:VEVENT
END:VCALENDAR
